BEGIN:VCALENDAR
VERSION:2.0
PRODID:SchoolNow
CALSCALE:GREGORIAN
BEGIN:VEVENT
UID:a9802066-c663-11ec-a6ee-02d068d47b67
DTSTAMP:20220427T195308Z
SUMMARY:School Committee Policy Sub Committee Meeting - REMOTE MEETING ONLI
 NE
URL;VALUE=URI:https://www.norwood.k12.ma.us/sc/calendar/3182829/school-comm
 ittee-policy-sub-committee-meeting-remote-meeting-online
DTSTART:20220517T143000Z
DTEND:20220517T160000Z
END:VEVENT
END:VCALENDAR
