BEGIN:VCALENDAR
VERSION:2.0
PRODID:SchoolNow
CALSCALE:GREGORIAN
BEGIN:VEVENT
UID:e5a509fa-c701-11ec-b961-0addd9e9eb89
DTSTAMP:20220428T144550Z
SUMMARY:School Committee Budget Sub Committee Meeting - REMOTE MEETING ONLI
 NE
URL;VALUE=URI:https://www.norwood.k12.ma.us/sc/calendar/3183510/school-comm
 ittee-budget-sub-committee-meeting-remote-meeting-online
DTSTART:20220503T163000Z
DTEND:20220503T180000Z
END:VEVENT
END:VCALENDAR
