BEGIN:VCALENDAR
VERSION:2.0
PRODID:SchoolNow
CALSCALE:GREGORIAN
BEGIN:VEVENT
UID:59a9471c-cbb7-11ec-a600-0a8bdf434c11
DTSTAMP:20220504T143448Z
SUMMARY:School Committee Budget Sub Committee - REMOTE MEETING ONLINE
URL;VALUE=URI:https://www.norwood.k12.ma.us/sc/calendar/3191266/school-comm
 ittee-budget-sub-committee-remote-meeting-online
DTSTART:20220609T150000Z
DTEND:20220609T163000Z
END:VEVENT
END:VCALENDAR
