BEGIN:VCALENDAR
VERSION:2.0
PRODID:SchoolNow
CALSCALE:GREGORIAN
BEGIN:VEVENT
UID:96251804-d122-11ec-8571-0e9600fc27c3
DTSTAMP:20220511T120501Z
SUMMARY:School Committee - Executive Session
URL;VALUE=URI:https://www.norwood.k12.ma.us/sc/calendar/3197029/school-comm
 ittee-executive-session
DTSTART:20220518T230000Z
DTEND:20220518T233000Z
END:VEVENT
END:VCALENDAR
