BEGIN:VCALENDAR
VERSION:2.0
PRODID:SchoolNow
CALSCALE:GREGORIAN
BEGIN:VEVENT
UID:aa376e8e-d60c-11ec-a25c-0ec82c86700b
DTSTAMP:20220517T181042Z
SUMMARY:School Committee Policy Sub Committee - REMOTE MEETING ONLINE - See
  Schedule page for details
URL;VALUE=URI:https://www.norwood.k12.ma.us/sc/calendar/3200529/school-comm
 ittee-policy-sub-committee-remote-meeting-online-see-schedule-page-for-det
 ails
DTSTART:20220531T143000Z
DTEND:20220531T160000Z
END:VEVENT
END:VCALENDAR
