BEGIN:VCALENDAR
VERSION:2.0
PRODID:SchoolNow
CALSCALE:GREGORIAN
BEGIN:VEVENT
UID:cb294fcc-d60c-11ec-8d0b-0ec82c86700b
DTSTAMP:20220613T142533Z
SUMMARY:CANCELLED-School Committee Policy Sub Committee Meeting - REMOTE ME
 ETING ONLINE - See Schedule Page for Details
URL;VALUE=URI:https://www.norwood.k12.ma.us/sc/calendar/3200532/school-comm
 ittee-policy-sub-committee-meeting-remote-meeting-online-see-schedule-page
 -for-details
DTSTART:20220610T133000Z
DTEND:20220610T150000Z
END:VEVENT
END:VCALENDAR
