BEGIN:VCALENDAR
VERSION:2.0
PRODID:SchoolNow
CALSCALE:GREGORIAN
BEGIN:VEVENT
UID:4dfd45c2-dc23-11ec-bd2f-0242d324e61b
DTSTAMP:20220531T202941Z
SUMMARY:School Committee Executive Session - Remote Meeting Online
URL;VALUE=URI:https://www.norwood.k12.ma.us/sc/calendar/3206249/school-comm
 ittee-executive-session
DTSTART:20220601T110000Z
DTEND:20220601T111500Z
END:VEVENT
END:VCALENDAR
