BEGIN:VCALENDAR
VERSION:2.0
PRODID:SchoolNow
CALSCALE:GREGORIAN
BEGIN:VEVENT
UID:e5bf5498-e5b2-11ec-8031-02f7a0dded9d
DTSTAMP:20220606T160826Z
SUMMARY:School Committee Executive Session - REMOTE MEETING
URL;VALUE=URI:https://www.norwood.k12.ma.us/sc/calendar/3212294/school-comm
 ittee-executive-session-remote-meeting
DTSTART:20220608T203000Z
DTEND:20220608T213000Z
END:VEVENT
END:VCALENDAR
