BEGIN:VCALENDAR
VERSION:2.0
PRODID:SchoolNow
CALSCALE:GREGORIAN
BEGIN:VEVENT
UID:a14a5516-eb24-11ec-aa8d-0e1d3a51fd0d
DTSTAMP:20220613T142509Z
SUMMARY:School Committee Policy Sub Committee Meeting - REMOTE MEETING ONLI
 NE - See Schedule Page for Details
URL;VALUE=URI:https://www.norwood.k12.ma.us/sc/calendar/3218057/school-comm
 ittee-policy-sub-committee-meeting-remote-meeting-online-see-schedule-page
 -for-details
DTSTART:20220615T133000Z
DTEND:20220615T151500Z
END:VEVENT
END:VCALENDAR
