BEGIN:VCALENDAR
VERSION:2.0
PRODID:SchoolNow
CALSCALE:GREGORIAN
BEGIN:VEVENT
UID:93be2258-ee6a-11ec-ab59-0255699ffb2d
DTSTAMP:20220617T182325Z
SUMMARY:School Commitee Publicy Sub Committee Meeting - REMOTE MEETING ONLI
 NE - See Schedule page for details
URL;VALUE=URI:https://www.norwood.k12.ma.us/sc/calendar/3224080/school-comm
 itee-publicy-sub-committee-meeting-remote-meeting-online-see-schedule-page
 -for-details
DTSTART:20220726T140000Z
DTEND:20220726T160000Z
END:VEVENT
END:VCALENDAR
