BEGIN:VCALENDAR
VERSION:2.0
PRODID:SchoolNow
CALSCALE:GREGORIAN
BEGIN:VEVENT
UID:760f06ba-f15c-11ec-bce1-0271ff5721b3
DTSTAMP:20220621T121956Z
SUMMARY:School Committee Budget Sub Committee Meeting - REMOTE MEETING ONLI
 NE - See Schedule Page for Details
URL;VALUE=URI:https://www.norwood.k12.ma.us/sc/calendar/3226296/school-comm
 ittee-budget-sub-committee-meeting-remote-meeting-online-see-schedule-page
 -for-details
DTSTART:20220720T150000Z
DTEND:20220720T170000Z
END:VEVENT
END:VCALENDAR
