BEGIN:VCALENDAR
VERSION:2.0
PRODID:SchoolNow
CALSCALE:GREGORIAN
BEGIN:VEVENT
UID:8a58b9a4-f15c-11ec-844c-0271ff5721b3
DTSTAMP:20220727T154717Z
SUMMARY:School Committee Budget Sub Committee Meeting - REMOTE MEETING ONLI
 NE - See Schedule Page for Details
URL;VALUE=URI:https://www.norwood.k12.ma.us/sc/calendar/3226298/school-comm
 ittee-budget-sub-committee-meeting-remote-meeting-online-see-schedule-page
 -for-details
DTSTART:20220822T140000Z
DTEND:20220822T160000Z
END:VEVENT
END:VCALENDAR
