BEGIN:VCALENDAR
VERSION:2.0
PRODID:SchoolNow
CALSCALE:GREGORIAN
BEGIN:VEVENT
UID:d07ef0bc-f60f-11ec-bfb6-0255699ffb2d
DTSTAMP:20220627T115352Z
SUMMARY:School Committee Executive Session - REMOTE MEETING ONLINE
URL;VALUE=URI:https://www.norwood.k12.ma.us/sc/calendar/3231367/school-comm
 ittee-executive-session-remote-meeting-online
DTSTART:20220629T150000Z
DTEND:20220629T160000Z
END:VEVENT
END:VCALENDAR
