BEGIN:VCALENDAR
VERSION:2.0
PRODID:SchoolNow
CALSCALE:GREGORIAN
BEGIN:VEVENT
UID:5f5db4b6-0827-11ed-be12-0a97b9576823
DTSTAMP:20220720T122751Z
SUMMARY:School Committee Executive Session
URL;VALUE=URI:https://www.norwood.k12.ma.us/sc/calendar/3248971/school-comm
 ittee-executive-session
DTSTART:20220803T220000Z
DTEND:20220803T223000Z
END:VEVENT
END:VCALENDAR
