BEGIN:VCALENDAR
VERSION:2.0
PRODID:SchoolNow
CALSCALE:GREGORIAN
BEGIN:VEVENT
UID:4042efa0-0dc3-11ed-9eea-0ac033b40007
DTSTAMP:20220830T115629Z
SUMMARY:CANCELLED - School Committee Policy Sub Committee Meeting - REMOTE 
 MEETING ONLINE - See Schedule Page for Details
URL;VALUE=URI:https://www.norwood.k12.ma.us/sc/calendar/3255766/school-comm
 ittee-policy-sub-committee-meeting-remote-meeting-online-see-schedule-page
 -for-details
DTSTART:20220830T143000Z
DTEND:20220830T163000Z
END:VEVENT
END:VCALENDAR
