BEGIN:VCALENDAR
VERSION:2.0
PRODID:SchoolNow
CALSCALE:GREGORIAN
BEGIN:VEVENT
UID:289f514c-22e8-11ed-b9c0-02add11fd3f7
DTSTAMP:20220823T133322Z
SUMMARY:School Committee Budget Sub Committee Meeting - REMOTE MEETING ONLI
 NE - See Schedule page for details
URL;VALUE=URI:https://www.norwood.k12.ma.us/sc/calendar/3297601/school-comm
 ittee-budget-sub-committee-meeting-remote-meeting-online-see-schedule-page
 -for-details
DTSTART:20220908T140000Z
DTEND:20220908T150000Z
END:VEVENT
END:VCALENDAR
