BEGIN:VCALENDAR
VERSION:2.0
PRODID:SchoolNow
CALSCALE:GREGORIAN
BEGIN:VEVENT
UID:451271ce-3035-11ed-a102-0a878d7c37ab
DTSTAMP:20220909T114806Z
SUMMARY:School Committee Budget Sub Committee - REMOTE MEETING ONLINE - See
  Schedule page for details
URL;VALUE=URI:https://www.norwood.k12.ma.us/sc/calendar/3366211/school-comm
 ittee-budget-sub-committee-remote-meeting-online-see-schedule-page-for-det
 ails
DTSTART:20220922T160000Z
DTEND:20220922T180000Z
END:VEVENT
END:VCALENDAR
