BEGIN:VCALENDAR
VERSION:2.0
PRODID:SchoolNow
CALSCALE:GREGORIAN
BEGIN:VEVENT
UID:2f529cc4-3292-11ed-9cbc-0279eebf3007
DTSTAMP:20220912T115815Z
SUMMARY:School Committee - Executive Session
URL;VALUE=URI:https://www.norwood.k12.ma.us/sc/calendar/3379110/school-comm
 ittee-executive-session
DTSTART:20220914T223000Z
DTEND:20220914T230000Z
END:VEVENT
END:VCALENDAR
