BEGIN:VCALENDAR
VERSION:2.0
PRODID:SchoolNow
CALSCALE:GREGORIAN
BEGIN:VEVENT
UID:dbf3f066-35eb-11ed-8166-0a3a2494b64f
DTSTAMP:20220916T181744Z
SUMMARY:School Committee - Executive Session
URL;VALUE=URI:https://www.norwood.k12.ma.us/sc/calendar/3402602/school-comm
 ittee-executive-session
DTSTART:20220920T220000Z
DTEND:20220920T230000Z
END:VEVENT
END:VCALENDAR
