BEGIN:VCALENDAR
VERSION:2.0
PRODID:SchoolNow
CALSCALE:GREGORIAN
BEGIN:VEVENT
UID:f4a9ec06-3a86-11ed-81ef-029ed72337af
DTSTAMP:20220922T145802Z
SUMMARY:School Committee Executive Session
URL;VALUE=URI:https://www.norwood.k12.ma.us/sc/calendar/3429271/school-comm
 ittee-executive-session
DTSTART:20220929T010000Z
DTEND:20220929T020000Z
END:VEVENT
END:VCALENDAR
