BEGIN:VCALENDAR
VERSION:2.0
PRODID:SchoolNow
CALSCALE:GREGORIAN
BEGIN:VEVENT
UID:10f6b642-3b71-11ed-bf3f-0a9e73b9aa21
DTSTAMP:20220923T185436Z
SUMMARY:School Committee Budget Sub Committee Meeting - REMOTE MEETING ONLI
 NE
URL;VALUE=URI:https://www.norwood.k12.ma.us/sc/calendar/3434509/school-comm
 ittee-budget-sub-committee-meeting
DTSTART:20221003T140000Z
DTEND:20221003T160000Z
END:VEVENT
END:VCALENDAR
