BEGIN:VCALENDAR
VERSION:2.0
PRODID:SchoolNow
CALSCALE:GREGORIAN
BEGIN:VEVENT
UID:23ae1f50-3b71-11ed-9aa1-0a9e73b9aa21
DTSTAMP:20221012T115701Z
SUMMARY:CANCELLED-School Committee Budget Sub Committee Meeting - REMOTE ME
 ETING ONLINE
URL;VALUE=URI:https://www.norwood.k12.ma.us/sc/calendar/3434510/school-comm
 ittee-budget-sub-committee-meeting-remote-meeting-online
DTSTART:20221018T140000Z
DTEND:20221018T160000Z
END:VEVENT
END:VCALENDAR
