BEGIN:VCALENDAR
VERSION:2.0
PRODID:SchoolNow
CALSCALE:GREGORIAN
BEGIN:VEVENT
UID:442d3d38-3b71-11ed-a62d-0a9e73b9aa21
DTSTAMP:20220923T185517Z
SUMMARY:School Committee Budget Sub Committee Meeting - REMOTE MEETING ONLI
 NE
URL;VALUE=URI:https://www.norwood.k12.ma.us/sc/calendar/3434512/school-comm
 ittee-budget-sub-committee-meeting-remote-meeting-online
DTSTART:20221201T180000Z
DTEND:20221201T200000Z
END:VEVENT
END:VCALENDAR
