BEGIN:VCALENDAR
VERSION:2.0
PRODID:SchoolNow
CALSCALE:GREGORIAN
BEGIN:VEVENT
UID:4fd425b6-3b71-11ed-8e2a-0a9e73b9aa21
DTSTAMP:20220923T185537Z
SUMMARY:School Committee Budget Sub Committee Meeting - REMOTE MEETING ONLI
 NE
URL;VALUE=URI:https://www.norwood.k12.ma.us/sc/calendar/3434514/school-comm
 ittee-budget-sub-committee-meeting-remote-meeting-online
DTSTART:20221214T170000Z
DTEND:20221214T190000Z
END:VEVENT
END:VCALENDAR
