BEGIN:VCALENDAR
VERSION:2.0
PRODID:SchoolNow
CALSCALE:GREGORIAN
BEGIN:VEVENT
UID:8d30a156-45a7-11ed-bb1a-0ec7a18832cf
DTSTAMP:20221006T184904Z
SUMMARY:School Committee Office Hours at Savage Center: Chair Mazzola / Dr.
  Giblin
URL;VALUE=URI:https://www.norwood.k12.ma.us/sc/calendar/3489789/school-comm
 ittee-office-hours-at-savage-center-chair-mazzola-dr-giblin
DTSTART:20221115T140000Z
DTEND:20221115T153000Z
END:VEVENT
END:VCALENDAR
