BEGIN:VCALENDAR
VERSION:2.0
PRODID:SchoolNow
CALSCALE:GREGORIAN
BEGIN:VEVENT
UID:a2a0573e-45a7-11ed-90c6-0ec7a18832cf
DTSTAMP:20221006T184940Z
SUMMARY:School Committee Office Hours at Savage Center: Ms. Stewart / Ms. S
 ibbing-Dunn
URL;VALUE=URI:https://www.norwood.k12.ma.us/sc/calendar/3489791/school-comm
 ittee-office-hours-at-savage-center-ms-stewart-ms-sibbing-dunn
DTSTART:20221205T170000Z
DTEND:20221205T183000Z
END:VEVENT
END:VCALENDAR
