BEGIN:VCALENDAR
VERSION:2.0
PRODID:SchoolNow
CALSCALE:GREGORIAN
BEGIN:VEVENT
UID:07d06ae6-4a25-11ed-b64e-0e74895b097f
DTSTAMP:20221012T115722Z
SUMMARY:School Committee Budget Sub Committee Meeting - REMOTE MEETING ONLI
 NE
URL;VALUE=URI:https://www.norwood.k12.ma.us/sc/calendar/3511989/school-comm
 ittee-budget-sub-committee-meeting-remote-meeting-online
DTSTART:20221020T130000Z
DTEND:20221020T150000Z
END:VEVENT
END:VCALENDAR
