BEGIN:VCALENDAR
VERSION:2.0
PRODID:SchoolNow
CALSCALE:GREGORIAN
BEGIN:VEVENT
UID:edaae382-4bd5-11ed-85c1-025ece5e300b
DTSTAMP:20221014T153632Z
SUMMARY:School Committee Budget Workshop - In Person at Savage Center
URL;VALUE=URI:https://www.norwood.k12.ma.us/sc/calendar/3521320/school-comm
 ittee-budget-workshop-in-person
DTSTART:20230227T230000Z
DTEND:20230228T010000Z
END:VEVENT
END:VCALENDAR
