BEGIN:VCALENDAR
VERSION:2.0
PRODID:SchoolNow
CALSCALE:GREGORIAN
BEGIN:VEVENT
UID:2d4f6ad4-53a2-11ed-8405-02c84e2d4ed1
DTSTAMP:20221213T141316Z
SUMMARY:CANCELLED - School Committee Policy Sub Committee Meeting - REMOTE 
 MEETING ONLINE - See Schedule Page for Details
URL;VALUE=URI:https://www.norwood.k12.ma.us/sc/calendar/3554252/school-comm
 ittee-policy-sub-committee-meeting-remote-meeting-online-see-schedule-page
 -for-details
DTSTART:20221213T143000Z
DTEND:20221213T160000Z
END:VEVENT
END:VCALENDAR
