BEGIN:VCALENDAR
VERSION:2.0
PRODID:SchoolNow
CALSCALE:GREGORIAN
BEGIN:VEVENT
UID:df4158ae-592b-11ed-8e6e-0afec3921075
DTSTAMP:20221031T145408Z
SUMMARY:School Committee Policy Sub Committee - REMOTE MEETING ONLINE
URL;VALUE=URI:https://www.norwood.k12.ma.us/sc/calendar/3575460/school-comm
 ittee-policy-sub-committee-remote-meeting-online
DTSTART:20221110T180000Z
DTEND:20221110T193000Z
END:VEVENT
END:VCALENDAR
