BEGIN:VCALENDAR
VERSION:2.0
PRODID:SchoolNow
CALSCALE:GREGORIAN
BEGIN:VEVENT
UID:fd957600-59ee-11ed-82bc-0ecbbe4a3b15
DTSTAMP:20221101T141050Z
SUMMARY:School Committee Executive Session - Administrative Assistants Cont
 ract Negotiations - See Schedule page for more information
URL;VALUE=URI:https://www.norwood.k12.ma.us/sc/calendar/3578037/school-comm
 ittee-executive-session-administrative-assistants-contract-negotiations-se
 e-schedule-page-for-more-information
DTSTART:20221208T213000Z
DTEND:20221208T223000Z
END:VEVENT
END:VCALENDAR
