BEGIN:VCALENDAR
VERSION:2.0
PRODID:SchoolNow
CALSCALE:GREGORIAN
BEGIN:VEVENT
UID:0d4036ee-59ef-11ed-94f0-0ecbbe4a3b15
DTSTAMP:20221101T141117Z
SUMMARY:School Committee Executive Session - Administrative Assistants Cont
 ract Negotiations - See Schedule page for more information
URL;VALUE=URI:https://www.norwood.k12.ma.us/sc/calendar/3578039/school-comm
 ittee-executive-session-administrative-assistants-contract-negotiations-se
 e-schedule-page-for-more-information
DTSTART:20221214T213000Z
DTEND:20221214T223000Z
END:VEVENT
END:VCALENDAR
