BEGIN:VCALENDAR
VERSION:2.0
PRODID:SchoolNow
CALSCALE:GREGORIAN
BEGIN:VEVENT
UID:1b08f4f0-59ef-11ed-afc2-0eac7215deff
DTSTAMP:20221101T141140Z
SUMMARY:School Committee Executive Session - Administrative Assistants Cont
 ract Negotiations - See Schedule page for more information
URL;VALUE=URI:https://www.norwood.k12.ma.us/sc/calendar/3578041/school-comm
 ittee-executive-session-administrative-assistants-contract-negotiations-se
 e-schedule-page-for-more-information
DTSTART:20221219T213000Z
DTEND:20221219T223000Z
END:VEVENT
END:VCALENDAR
