BEGIN:VCALENDAR
VERSION:2.0
PRODID:SchoolNow
CALSCALE:GREGORIAN
BEGIN:VEVENT
UID:2a04be96-602d-11ed-a50c-0a810d94cd77
DTSTAMP:20221109T125101Z
SUMMARY:School Committee Elementary Sub Committee - REMOTE MEETING ONLINE
URL;VALUE=URI:https://www.norwood.k12.ma.us/sc/calendar/3599346/school-comm
 ittee-elementary-sub-committee-remote-meeting-online
DTSTART:20221130T210000Z
DTEND:20221130T220000Z
END:VEVENT
END:VCALENDAR
