BEGIN:VCALENDAR
VERSION:2.0
PRODID:SchoolNow
CALSCALE:GREGORIAN
BEGIN:VEVENT
UID:1521bd5a-641d-11ed-94b9-0ecd20361d2d
DTSTAMP:20221114T130558Z
SUMMARY:School Committee Policy Sub Committee Meeting - REMOTE MEETING ONLI
 NE
URL;VALUE=URI:https://www.norwood.k12.ma.us/sc/calendar/3608718/school-comm
 ittee-policy-sub-committee-meeting-remote-meeting-online
DTSTART:20221122T153000Z
DTEND:20221122T170000Z
END:VEVENT
END:VCALENDAR
