BEGIN:VCALENDAR
VERSION:2.0
PRODID:SchoolNow
CALSCALE:GREGORIAN
BEGIN:VEVENT
UID:20bd0e34-717a-11ed-915d-0eef83bff759
DTSTAMP:20221201T131543Z
SUMMARY:School Committee Budget Sub Committee - REMOTE MEETING ONLINE
URL;VALUE=URI:https://www.norwood.k12.ma.us/sc/calendar/3631388/school-comm
 ittee-budget-sub-committee-remote-meeting-online
DTSTART:20230106T160000Z
DTEND:20230106T183000Z
END:VEVENT
END:VCALENDAR
