BEGIN:VCALENDAR
VERSION:2.0
PRODID:SchoolNow
CALSCALE:GREGORIAN
BEGIN:VEVENT
UID:5323525c-717a-11ed-b32a-0eef83bff759
DTSTAMP:20221201T131611Z
SUMMARY:School Committee Budget Sub Committee - REMOTE MEETING ONLINE
URL;VALUE=URI:https://www.norwood.k12.ma.us/sc/calendar/3631390/school-comm
 ittee-budget-sub-committee-remote-meeting-online
DTSTART:20230120T160000Z
DTEND:20230120T183000Z
END:VEVENT
END:VCALENDAR
