BEGIN:VCALENDAR
VERSION:2.0
PRODID:SchoolNow
CALSCALE:GREGORIAN
BEGIN:VEVENT
UID:6b4f877e-717a-11ed-9889-0eef83bff759
DTSTAMP:20221201T131651Z
SUMMARY:School Committee Budget Sub Committee - REMOTE MEETING ONLINE
URL;VALUE=URI:https://www.norwood.k12.ma.us/sc/calendar/3631392/school-comm
 ittee-budget-sub-committee-remote-meeting-online
DTSTART:20230201T170000Z
DTEND:20230201T193000Z
END:VEVENT
END:VCALENDAR
