BEGIN:VCALENDAR
VERSION:2.0
PRODID:SchoolNow
CALSCALE:GREGORIAN
BEGIN:VEVENT
UID:309e4a2c-724a-11ed-ba6d-0e8946c9ea11
DTSTAMP:20221202T140408Z
SUMMARY:School Committee MASC Workshop
URL;VALUE=URI:https://www.norwood.k12.ma.us/sc/calendar/3632678/school-comm
 ittee-masc-workshop
DTSTART:20230110T230000Z
DTEND:20230111T013000Z
END:VEVENT
END:VCALENDAR
