BEGIN:VCALENDAR
VERSION:2.0
PRODID:SchoolNow
CALSCALE:GREGORIAN
BEGIN:VEVENT
UID:3829d1a4-7af0-11ed-b291-0a5b58ec110f
DTSTAMP:20221213T141247Z
SUMMARY:School Committee Elementary Sub Committee Meeting - REMOTE MEETING 
 ONLINE
URL;VALUE=URI:https://www.norwood.k12.ma.us/sc/calendar/3642875/school-comm
 ittee-elementary-sub-committee-meeting-remote-meeting-online
DTSTART:20221222T210000Z
DTEND:20221222T220000Z
END:VEVENT
END:VCALENDAR
