BEGIN:VCALENDAR
VERSION:2.0
PRODID:SchoolNow
CALSCALE:GREGORIAN
BEGIN:VEVENT
UID:9471db62-8132-11ed-9188-0e7f504413d3
DTSTAMP:20221221T132255Z
SUMMARY:School Committee Policy Sub Committee Meeting - REMOTE MEETING ONLI
 NE
URL;VALUE=URI:https://www.norwood.k12.ma.us/sc/calendar/3649759/school-comm
 ittee-policy-sub-committee-meeting-remote-meeting-online
DTSTART:20230104T193000Z
DTEND:20230104T210000Z
END:VEVENT
END:VCALENDAR
