BEGIN:VCALENDAR
VERSION:2.0
PRODID:SchoolNow
CALSCALE:GREGORIAN
BEGIN:VEVENT
UID:f5712fb0-9278-11ed-9db7-0e4d6a614f5b
DTSTAMP:20230120T125819Z
SUMMARY:CANCELLED - School Committee - Budget Balancing Committee - Locatio
 n: FinCom at Town Hall
URL;VALUE=URI:https://www.norwood.k12.ma.us/sc/calendar/3664759/school-comm
 ittee-budget-balancing-committee-location-fincom-at-town-hall
DTSTART:20230124T003000Z
DTEND:20230124T020000Z
END:VEVENT
END:VCALENDAR
