BEGIN:VCALENDAR
VERSION:2.0
PRODID:SchoolNow
CALSCALE:GREGORIAN
BEGIN:VEVENT
UID:146fb3a0-9279-11ed-aea7-0e4d6a614f5b
DTSTAMP:20230112T130024Z
SUMMARY:School Committee Executive Session with Unit A: Start Times MOU
URL;VALUE=URI:https://www.norwood.k12.ma.us/sc/calendar/3664760/school-comm
 ittee-executive-session-with-unit-a-start-times-mou
DTSTART:20230125T203000Z
DTEND:20230125T213000Z
END:VEVENT
END:VCALENDAR
