BEGIN:VCALENDAR
VERSION:2.0
PRODID:SchoolNow
CALSCALE:GREGORIAN
BEGIN:VEVENT
UID:413c77ce-9279-11ed-9d7d-0e4d6a614f5b
DTSTAMP:20230112T130140Z
SUMMARY:School Committee Executive Session with Teachers' Union
URL;VALUE=URI:https://www.norwood.k12.ma.us/sc/calendar/3664763/school-comm
 ittee-executive-session-with-teachers-union
DTSTART:20230130T203000Z
DTEND:20230130T213000Z
END:VEVENT
END:VCALENDAR
