BEGIN:VCALENDAR
VERSION:2.0
PRODID:SchoolNow
CALSCALE:GREGORIAN
BEGIN:VEVENT
UID:500304b2-9279-11ed-831c-0e4d6a614f5b
DTSTAMP:20230201T131954Z
SUMMARY:CANCELLED-School Committee Executive Session with Teachers' Union
URL;VALUE=URI:https://www.norwood.k12.ma.us/sc/calendar/3664765/school-comm
 ittee-executive-session-with-teachers-union
DTSTART:20230201T203000Z
DTEND:20230201T213000Z
END:VEVENT
END:VCALENDAR
