BEGIN:VCALENDAR
VERSION:2.0
PRODID:SchoolNow
CALSCALE:GREGORIAN
BEGIN:VEVENT
UID:7f9f1dbe-9279-11ed-acd6-0e4d6a614f5b
DTSTAMP:20230112T130324Z
SUMMARY:School Committee Elementary Sub Committee - REMOTE MEETING ONLINE
URL;VALUE=URI:https://www.norwood.k12.ma.us/sc/calendar/3664767/school-comm
 ittee-elementary-sub-committee-remote-meeting-online
DTSTART:20230118T213000Z
DTEND:20230118T223000Z
END:VEVENT
END:VCALENDAR
