BEGIN:VCALENDAR
VERSION:2.0
PRODID:SchoolNow
CALSCALE:GREGORIAN
BEGIN:VEVENT
UID:b4d64024-9667-11ed-90c8-0e103f469841
DTSTAMP:20230117T130607Z
SUMMARY:School Committee Policy Sub Committee Meeting - REMOTE MEETING ONLI
 NE
URL;VALUE=URI:https://www.norwood.k12.ma.us/sc/calendar/3669011/school-comm
 ittee-policy-sub-committee-meeting-remote-meeting-online
DTSTART:20230118T203000Z
DTEND:20230118T213000Z
END:VEVENT
END:VCALENDAR
