BEGIN:VCALENDAR
VERSION:2.0
PRODID:SchoolNow
CALSCALE:GREGORIAN
BEGIN:VEVENT
UID:5f0a06b0-9812-11ed-ad47-0e98bb8670cd
DTSTAMP:20230119T160018Z
SUMMARY:School Committee Elementary Sub Committee Meeting - REMOTE MEETING 
 ONLINE
URL;VALUE=URI:https://www.norwood.k12.ma.us/sc/calendar/3674397/school-comm
 ittee-elementary-sub-committee-meeting-remote-meeting-online
DTSTART:20230314T203000Z
DTEND:20230314T213000Z
END:VEVENT
END:VCALENDAR
