BEGIN:VCALENDAR
VERSION:2.0
PRODID:SchoolNow
CALSCALE:GREGORIAN
BEGIN:VEVENT
UID:f2449bf8-98cf-11ed-904e-0a80b4a2191b
DTSTAMP:20230120T143720Z
SUMMARY:School Committee Policy Sub Committee Meeting with PTOs - Savage Ce
 nter
URL;VALUE=URI:https://www.norwood.k12.ma.us/sc/calendar/3677342/school-comm
 ittee-policy-sub-committee-meeting-with-ptos-savage-center
DTSTART:20230124T230000Z
DTEND:20230125T000000Z
END:VEVENT
END:VCALENDAR
