BEGIN:VCALENDAR
VERSION:2.0
PRODID:SchoolNow
CALSCALE:GREGORIAN
BEGIN:VEVENT
UID:e926d4ea-98d0-11ed-b76f-0a80b4a2191b
DTSTAMP:20230120T144415Z
SUMMARY:School Committee Policy Sub Committee Meeting - REMOTE MEETING ONLI
 NE
URL;VALUE=URI:https://www.norwood.k12.ma.us/sc/calendar/3677344/school-comm
 ittee-policy-sub-committee-meeting-remote-meeting-online
DTSTART:20230210T153000Z
DTEND:20230210T170000Z
END:VEVENT
END:VCALENDAR
